BEGIN:VCALENDAR
PRODID:-//github.com/rianjs/ical.net//NONSGML ical.net 4.0//EN
VERSION:2.0
BEGIN:VTIMEZONE
TZID:Eastern Standard Time
X-LIC-LOCATION:America/New_York
BEGIN:STANDARD
DTSTART:20241103T020000
RRULE:FREQ=YEARLY;BYDAY=1SU;BYMONTH=11
TZNAME:EST
TZOFFSETFROM:-0400
TZOFFSETTO:-0500
END:STANDARD
BEGIN:DAYLIGHT
DTSTART:20250309T020000
RRULE:FREQ=YEARLY;BYDAY=2SU;BYMONTH=3
TZNAME:EDT
TZOFFSETFROM:-0500
TZOFFSETTO:-0400
END:DAYLIGHT
END:VTIMEZONE
BEGIN:VEVENT
DESCRIPTION:2023 Annual Meeting by the American Academy of Neurology\n\nTi
 tle: CANCELED - So Your Paper Didn't Get Published\, Now What? (Research 
 Hub)\n\nAccess URL: https://www.aan.com/msa/Public/Events/GetEventURL/163
 10\n\nLearn More About This Event: https://www.aan.com/msa/Public/Events/
 Details/16310
DTEND;TZID=Eastern Standard Time:20230427T134500
DTSTAMP:20260424T053353Z
DTSTART;TZID=Eastern Standard Time:20230427T130000
LOCATION:https://www.aan.com/msa/Public/Events/GetEventURL/16310
SEQUENCE:0
SUMMARY:AAN: CANCELED - So Your Paper Didn't Get Published\, Now What? (Re
 search Hub)
UID:5e139e16-77c5-42fa-b11a-70e81c33da74
END:VEVENT
END:VCALENDAR
