BEGIN:VCALENDAR
PRODID:-//github.com/rianjs/ical.net//NONSGML ical.net 4.0//EN
VERSION:2.0
BEGIN:VTIMEZONE
TZID:Eastern Standard Time
X-LIC-LOCATION:America/New_York
BEGIN:STANDARD
DTSTART:20241103T020000
RRULE:FREQ=YEARLY;BYDAY=1SU;BYMONTH=11
TZNAME:EST
TZOFFSETFROM:-0400
TZOFFSETTO:-0500
END:STANDARD
BEGIN:DAYLIGHT
DTSTART:20250309T020000
RRULE:FREQ=YEARLY;BYDAY=2SU;BYMONTH=3
TZNAME:EDT
TZOFFSETFROM:-0500
TZOFFSETTO:-0400
END:DAYLIGHT
END:VTIMEZONE
BEGIN:VEVENT
DESCRIPTION:2023 Annual Meeting by the American Academy of Neurology\n\nTi
 tle: Coffee Connect: All Welcome (Research Hub)\n\nAccess URL: https://ww
 w.aan.com/msa/Public/Events/GetEventURL/16342\n\nLearn More About This Ev
 ent: https://www.aan.com/msa/Public/Events/Details/16342
DTEND;TZID=Eastern Standard Time:20230427T090000
DTSTAMP:20260423T213553Z
DTSTART;TZID=Eastern Standard Time:20230427T080000
LOCATION:https://www.aan.com/msa/Public/Events/GetEventURL/16342
SEQUENCE:0
SUMMARY:AAN: Coffee Connect: All Welcome (Research Hub)
UID:c0603281-4fb7-47e1-9807-33cfce681b9f
END:VEVENT
END:VCALENDAR
