BEGIN:VCALENDAR
PRODID:-//github.com/rianjs/ical.net//NONSGML ical.net 4.0//EN
VERSION:2.0
BEGIN:VTIMEZONE
TZID:Eastern Standard Time
X-LIC-LOCATION:America/New_York
BEGIN:STANDARD
DTSTART:20241103T020000
RRULE:FREQ=YEARLY;BYDAY=1SU;BYMONTH=11
TZNAME:EST
TZOFFSETFROM:-0400
TZOFFSETTO:-0500
END:STANDARD
BEGIN:DAYLIGHT
DTSTART:20250309T020000
RRULE:FREQ=YEARLY;BYDAY=2SU;BYMONTH=3
TZNAME:EDT
TZOFFSETFROM:-0500
TZOFFSETTO:-0400
END:DAYLIGHT
END:VTIMEZONE
BEGIN:VEVENT
DESCRIPTION:2023 Annual Meeting by the American Academy of Neurology\n\nTi
 tle: Society of Behavioral and Cognitive Neurology Reception (Non-AAN Spo
 nsored Event)\n\nDescription: Reception with appetizers and cash bar if p
 ossible.   Available seating and tables\, could be high top tables.\n\nLe
 arn More About This Event: https://www.aan.com/msa/Public/Events/Details/
 16358
DTEND;TZID=Eastern Standard Time:20230425T210000
DTSTAMP:20260424T053352Z
DTSTART;TZID=Eastern Standard Time:20230425T180000
LOCATION:https://www.aan.com/msa/Public/Events/GetEventURL/16358
SEQUENCE:0
SUMMARY:AAN: Society of Behavioral and Cognitive Neurology Reception (Non-
 AAN Sponsored Event)
UID:a7a854e6-8c28-481f-b47d-626257640eca
END:VEVENT
END:VCALENDAR
