BEGIN:VCALENDAR
PRODID:-//github.com/rianjs/ical.net//NONSGML ical.net 4.0//EN
VERSION:2.0
BEGIN:VTIMEZONE
TZID:Eastern Standard Time
X-LIC-LOCATION:America/New_York
BEGIN:STANDARD
DTSTART:20241103T020000
RRULE:FREQ=YEARLY;BYDAY=1SU;BYMONTH=11
TZNAME:EST
TZOFFSETFROM:-0400
TZOFFSETTO:-0500
END:STANDARD
BEGIN:DAYLIGHT
DTSTART:20250309T020000
RRULE:FREQ=YEARLY;BYDAY=2SU;BYMONTH=3
TZNAME:EDT
TZOFFSETFROM:-0500
TZOFFSETTO:-0400
END:DAYLIGHT
END:VTIMEZONE
BEGIN:VEVENT
DESCRIPTION:2023 Annual Meeting by the American Academy of Neurology\n\nTi
 tle: Utilizing NeuroBytes in Your Clerkship\n\nAccess URL: https://www.aa
 n.com/msa/Public/Events/GetEventURL/16364\n\nLearn More About This Event:
  https://www.aan.com/msa/Public/Events/Details/16364
DTEND;TZID=Eastern Standard Time:20230424T120000
DTSTAMP:20260424T053202Z
DTSTART;TZID=Eastern Standard Time:20230424T113000
LOCATION:https://www.aan.com/msa/Public/Events/GetEventURL/16364
SEQUENCE:0
SUMMARY:AAN: Utilizing NeuroBytes in Your Clerkship
UID:f348fc6c-2fb3-441f-b1bd-fa047f718bad
END:VEVENT
END:VCALENDAR
