BEGIN:VCALENDAR
PRODID:-//github.com/rianjs/ical.net//NONSGML ical.net 4.0//EN
VERSION:2.0
BEGIN:VTIMEZONE
TZID:Eastern Standard Time
X-LIC-LOCATION:America/New_York
BEGIN:STANDARD
DTSTART:20241103T020000
RRULE:FREQ=YEARLY;BYDAY=1SU;BYMONTH=11
TZNAME:EST
TZOFFSETFROM:-0400
TZOFFSETTO:-0500
END:STANDARD
BEGIN:DAYLIGHT
DTSTART:20250309T020000
RRULE:FREQ=YEARLY;BYDAY=2SU;BYMONTH=3
TZNAME:EDT
TZOFFSETFROM:-0500
TZOFFSETTO:-0400
END:DAYLIGHT
END:VTIMEZONE
BEGIN:VEVENT
DESCRIPTION:2023 Annual Meeting by the American Academy of Neurology\n\nTi
 tle: Disputes & Debates: Pulled from the Pages of Neurology®: Meet the Ed
 itors and Learn More\n\nAccess URL: https://www.aan.com/msa/Public/Events
 /GetEventURL/16370\n\nLearn More About This Event: https://www.aan.com/ms
 a/Public/Events/Details/16370
DTEND;TZID=Eastern Standard Time:20230424T140000
DTSTAMP:20260424T053352Z
DTSTART;TZID=Eastern Standard Time:20230424T133000
LOCATION:https://www.aan.com/msa/Public/Events/GetEventURL/16370
SEQUENCE:0
SUMMARY:AAN: Disputes & Debates: Pulled from the Pages of Neurology®: Meet
  the Editors and Learn More
UID:ea81d7fa-26a0-4bd4-bcd9-b73afbf54d77
END:VEVENT
END:VCALENDAR
