BEGIN:VCALENDAR
PRODID:-//github.com/rianjs/ical.net//NONSGML ical.net 4.0//EN
VERSION:2.0
BEGIN:VTIMEZONE
TZID:Eastern Standard Time
X-LIC-LOCATION:America/New_York
BEGIN:STANDARD
DTSTART:20241103T020000
RRULE:FREQ=YEARLY;BYDAY=1SU;BYMONTH=11
TZNAME:EST
TZOFFSETFROM:-0400
TZOFFSETTO:-0500
END:STANDARD
BEGIN:DAYLIGHT
DTSTART:20250309T020000
RRULE:FREQ=YEARLY;BYDAY=2SU;BYMONTH=3
TZNAME:EDT
TZOFFSETFROM:-0500
TZOFFSETTO:-0400
END:DAYLIGHT
END:VTIMEZONE
BEGIN:VEVENT
DESCRIPTION:2023 Annual Meeting by the American Academy of Neurology\n\nTi
 tle: Meet the Editors of Neurology®: All Questions Welcome\n\nAccess URL:
  https://www.aan.com/msa/Public/Events/GetEventURL/16371\n\nLearn More Ab
 out This Event: https://www.aan.com/msa/Public/Events/Details/16371
DTEND;TZID=Eastern Standard Time:20230424T150000
DTSTAMP:20260424T053427Z
DTSTART;TZID=Eastern Standard Time:20230424T143000
LOCATION:https://www.aan.com/msa/Public/Events/GetEventURL/16371
SEQUENCE:0
SUMMARY:AAN: Meet the Editors of Neurology®: All Questions Welcome
UID:06df89c3-3eb9-4914-b776-b2f4439121a6
END:VEVENT
END:VCALENDAR
