BEGIN:VCALENDAR
PRODID:-//github.com/rianjs/ical.net//NONSGML ical.net 4.0//EN
VERSION:2.0
BEGIN:VTIMEZONE
TZID:Eastern Standard Time
X-LIC-LOCATION:America/New_York
BEGIN:STANDARD
DTSTART:20241103T020000
RRULE:FREQ=YEARLY;BYDAY=1SU;BYMONTH=11
TZNAME:EST
TZOFFSETFROM:-0400
TZOFFSETTO:-0500
END:STANDARD
BEGIN:DAYLIGHT
DTSTART:20250309T020000
RRULE:FREQ=YEARLY;BYDAY=2SU;BYMONTH=3
TZNAME:EDT
TZOFFSETFROM:-0500
TZOFFSETTO:-0400
END:DAYLIGHT
END:VTIMEZONE
BEGIN:VEVENT
DESCRIPTION:2023 Annual Meeting by the American Academy of Neurology\n\nTi
 tle: All the Current Buzz—Meeting the Editors of Practice Current & Pract
 ice Buzz\n\nAccess URL: https://www.aan.com/msa/Public/Events/GetEventURL
 /16372\n\nLearn More About This Event: https://www.aan.com/msa/Public/Eve
 nts/Details/16372
DTEND;TZID=Eastern Standard Time:20230424T173000
DTSTAMP:20260424T053204Z
DTSTART;TZID=Eastern Standard Time:20230424T170000
LOCATION:https://www.aan.com/msa/Public/Events/GetEventURL/16372
SEQUENCE:0
SUMMARY:AAN: All the Current Buzz—Meeting the Editors of Practice Current 
 & Practice Buzz
UID:137e3c96-eeaf-4269-a78e-245684f8228f
END:VEVENT
END:VCALENDAR
