BEGIN:VCALENDAR
PRODID:-//github.com/rianjs/ical.net//NONSGML ical.net 4.0//EN
VERSION:2.0
BEGIN:VTIMEZONE
TZID:Eastern Standard Time
X-LIC-LOCATION:America/New_York
BEGIN:STANDARD
DTSTART:20241103T020000
RRULE:FREQ=YEARLY;BYDAY=1SU;BYMONTH=11
TZNAME:EST
TZOFFSETFROM:-0400
TZOFFSETTO:-0500
END:STANDARD
BEGIN:DAYLIGHT
DTSTART:20250309T020000
RRULE:FREQ=YEARLY;BYDAY=2SU;BYMONTH=3
TZNAME:EDT
TZOFFSETFROM:-0500
TZOFFSETTO:-0400
END:DAYLIGHT
END:VTIMEZONE
BEGIN:VEVENT
DESCRIPTION:2023 Annual Meeting by the American Academy of Neurology\n\nTi
 tle: AAN Women’s Issues in Neurology (WIN) Section Spotlight on Neurologi
 c Disease Through the Lens of Sex and Gender\n\nAccess URL: https://www.a
 an.com/msa/Public/Events/GetEventURL/16381\n\nLearn More About This Event
 : https://www.aan.com/msa/Public/Events/Details/16381
DTEND;TZID=Eastern Standard Time:20230423T163000
DTSTAMP:20260424T053300Z
DTSTART;TZID=Eastern Standard Time:20230423T153000
LOCATION:https://www.aan.com/msa/Public/Events/GetEventURL/16381
SEQUENCE:0
SUMMARY:AAN: AAN Women’s Issues in Neurology (WIN) Section Spotlight on Ne
 urologic Disease Through the Lens of Sex and Gender
UID:2d0b2755-8ac2-4903-ac6b-6172008e91a5
END:VEVENT
END:VCALENDAR
