BEGIN:VCALENDAR
PRODID:-//github.com/rianjs/ical.net//NONSGML ical.net 4.0//EN
VERSION:2.0
BEGIN:VTIMEZONE
TZID:Eastern Standard Time
X-LIC-LOCATION:America/New_York
BEGIN:STANDARD
DTSTART:20241103T020000
RRULE:FREQ=YEARLY;BYDAY=1SU;BYMONTH=11
TZNAME:EST
TZOFFSETFROM:-0400
TZOFFSETTO:-0500
END:STANDARD
BEGIN:DAYLIGHT
DTSTART:20250309T020000
RRULE:FREQ=YEARLY;BYDAY=2SU;BYMONTH=3
TZNAME:EDT
TZOFFSETFROM:-0500
TZOFFSETTO:-0400
END:DAYLIGHT
END:VTIMEZONE
BEGIN:VEVENT
DESCRIPTION:2023 Annual Meeting by the American Academy of Neurology\n\nTi
 tle: AAN Stroke & Vascular Neurology Section Spotlight on Strategies for 
 Pre-hospital Identification and Management of Stroke\n\nAccess URL: https
 ://www.aan.com/msa/Public/Events/GetEventURL/16382\n\nLearn More About Th
 is Event: https://www.aan.com/msa/Public/Events/Details/16382
DTEND;TZID=Eastern Standard Time:20230424T090000
DTSTAMP:20260424T053427Z
DTSTART;TZID=Eastern Standard Time:20230424T080000
LOCATION:https://www.aan.com/msa/Public/Events/GetEventURL/16382
SEQUENCE:0
SUMMARY:AAN: AAN Stroke & Vascular Neurology Section Spotlight on Strategi
 es for Pre-hospital Identification and Management of Stroke
UID:53ab8f65-7da5-43ce-96b7-8647a1f3ac50
END:VEVENT
END:VCALENDAR
