BEGIN:VCALENDAR
PRODID:-//github.com/rianjs/ical.net//NONSGML ical.net 4.0//EN
VERSION:2.0
BEGIN:VTIMEZONE
TZID:Eastern Standard Time
X-LIC-LOCATION:America/New_York
BEGIN:STANDARD
DTSTART:20241103T020000
RRULE:FREQ=YEARLY;BYDAY=1SU;BYMONTH=11
TZNAME:EST
TZOFFSETFROM:-0400
TZOFFSETTO:-0500
END:STANDARD
BEGIN:DAYLIGHT
DTSTART:20250309T020000
RRULE:FREQ=YEARLY;BYDAY=2SU;BYMONTH=3
TZNAME:EDT
TZOFFSETFROM:-0500
TZOFFSETTO:-0400
END:DAYLIGHT
END:VTIMEZONE
BEGIN:VEVENT
DESCRIPTION:2023 Annual Meeting by the American Academy of Neurology\n\nTi
 tle: AAN Movement Disorders AAN Sleep Sections Spotlight on Wellness in N
 eurodegenerative Disease – Proactive Lifestyle Choices\n\nAccess URL: htt
 ps://www.aan.com/msa/Public/Events/GetEventURL/16384\n\nLearn More About 
 This Event: https://www.aan.com/msa/Public/Events/Details/16384
DTEND;TZID=Eastern Standard Time:20230424T150000
DTSTAMP:20260424T070417Z
DTSTART;TZID=Eastern Standard Time:20230424T140000
LOCATION:https://www.aan.com/msa/Public/Events/GetEventURL/16384
SEQUENCE:0
SUMMARY:AAN: AAN Movement Disorders AAN Sleep Sections Spotlight on Wellne
 ss in Neurodegenerative Disease – Proactive Lifestyle Choices
UID:b8c35516-1c66-4671-93bb-bb5872679d18
END:VEVENT
END:VCALENDAR
