BEGIN:VCALENDAR
PRODID:-//github.com/rianjs/ical.net//NONSGML ical.net 4.0//EN
VERSION:2.0
BEGIN:VTIMEZONE
TZID:Eastern Standard Time
X-LIC-LOCATION:America/New_York
BEGIN:STANDARD
DTSTART:20241103T020000
RRULE:FREQ=YEARLY;BYDAY=1SU;BYMONTH=11
TZNAME:EST
TZOFFSETFROM:-0400
TZOFFSETTO:-0500
END:STANDARD
BEGIN:DAYLIGHT
DTSTART:20250309T020000
RRULE:FREQ=YEARLY;BYDAY=2SU;BYMONTH=3
TZNAME:EDT
TZOFFSETFROM:-0500
TZOFFSETTO:-0400
END:DAYLIGHT
END:VTIMEZONE
BEGIN:VEVENT
DESCRIPTION:2023 Annual Meeting by the American Academy of Neurology\n\nTi
 tle: AAN Neurohealth & Integrative Neurology (NIN) Section Spotlight on I
 ntegrating Brain Health in Clinical Practice: An Interactive Panel Discus
 sion\n\nAccess URL: https://www.aan.com/msa/Public/Events/GetEventURL/163
 85\n\nLearn More About This Event: https://www.aan.com/msa/Public/Events/
 Details/16385
DTEND;TZID=Eastern Standard Time:20230424T163000
DTSTAMP:20260423T213916Z
DTSTART;TZID=Eastern Standard Time:20230424T153000
LOCATION:https://www.aan.com/msa/Public/Events/GetEventURL/16385
SEQUENCE:0
SUMMARY:AAN: AAN Neurohealth & Integrative Neurology (NIN) Section Spotlig
 ht on Integrating Brain Health in Clinical Practice: An Interactive Panel
  Discussion
UID:fceea724-6d0f-48ff-82e0-3ef7f816686e
END:VEVENT
END:VCALENDAR
