BEGIN:VCALENDAR
PRODID:-//github.com/rianjs/ical.net//NONSGML ical.net 4.0//EN
VERSION:2.0
BEGIN:VTIMEZONE
TZID:Eastern Standard Time
X-LIC-LOCATION:America/New_York
BEGIN:STANDARD
DTSTART:20241103T020000
RRULE:FREQ=YEARLY;BYDAY=1SU;BYMONTH=11
TZNAME:EST
TZOFFSETFROM:-0400
TZOFFSETTO:-0500
END:STANDARD
BEGIN:DAYLIGHT
DTSTART:20250309T020000
RRULE:FREQ=YEARLY;BYDAY=2SU;BYMONTH=3
TZNAME:EDT
TZOFFSETFROM:-0500
TZOFFSETTO:-0400
END:DAYLIGHT
END:VTIMEZONE
BEGIN:VEVENT
DESCRIPTION:2023 Annual Meeting by the American Academy of Neurology\n\nTi
 tle: University of Kentucky Neurology Alumni Reunion \n\nDescription: We 
 would like to have a brief alumni reunion for those attending the AAN thi
 s year\, with the plan do so in subsequent years as well. \n\nLearn More 
 About This Event: https://www.aan.com/msa/Public/Events/Details/16428
DTEND;TZID=Eastern Standard Time:20230425T210000
DTSTAMP:20260424T053156Z
DTSTART;TZID=Eastern Standard Time:20230425T190000
LOCATION:https://www.aan.com/msa/Public/Events/GetEventURL/16428
SEQUENCE:0
SUMMARY:AAN: University of Kentucky Neurology Alumni Reunion
UID:1ffc87cf-1b61-4a2b-9d9a-2654d0d17dac
END:VEVENT
END:VCALENDAR
