BEGIN:VCALENDAR
PRODID:-//github.com/rianjs/ical.net//NONSGML ical.net 4.0//EN
VERSION:2.0
BEGIN:VTIMEZONE
TZID:Eastern Standard Time
X-LIC-LOCATION:America/New_York
BEGIN:STANDARD
DTSTART:20241103T020000
RRULE:FREQ=YEARLY;BYDAY=1SU;BYMONTH=11
TZNAME:EST
TZOFFSETFROM:-0400
TZOFFSETTO:-0500
END:STANDARD
BEGIN:DAYLIGHT
DTSTART:20250309T020000
RRULE:FREQ=YEARLY;BYDAY=2SU;BYMONTH=3
TZNAME:EDT
TZOFFSETFROM:-0500
TZOFFSETTO:-0400
END:DAYLIGHT
END:VTIMEZONE
BEGIN:VEVENT
DESCRIPTION:2023 Annual Meeting by the American Academy of Neurology\n\nTi
 tle: No Ordinary Campaign Film Screening: A Documentary on ALS and Our Br
 oken Healthcare System\n\nAccess URL: https://www.aan.com/msa/Public/Even
 ts/GetEventURL/16429\n\nLearn More About This Event: https://www.aan.com/
 msa/Public/Events/Details/16429
DTEND;TZID=Eastern Standard Time:20230425T173000
DTSTAMP:20260424T053428Z
DTSTART;TZID=Eastern Standard Time:20230425T153000
LOCATION:https://www.aan.com/msa/Public/Events/GetEventURL/16429
SEQUENCE:0
SUMMARY:AAN: No Ordinary Campaign Film Screening: A Documentary on ALS and
  Our Broken Healthcare System
UID:04e5760b-253a-4b9c-8807-c1403ddb75a6
END:VEVENT
END:VCALENDAR
