BEGIN:VCALENDAR
PRODID:-//github.com/rianjs/ical.net//NONSGML ical.net 4.0//EN
VERSION:2.0
BEGIN:VTIMEZONE
TZID:Eastern Standard Time
X-LIC-LOCATION:America/New_York
BEGIN:STANDARD
DTSTART:20241103T020000
RRULE:FREQ=YEARLY;BYDAY=1SU;BYMONTH=11
TZNAME:EST
TZOFFSETFROM:-0400
TZOFFSETTO:-0500
END:STANDARD
BEGIN:DAYLIGHT
DTSTART:20250309T020000
RRULE:FREQ=YEARLY;BYDAY=2SU;BYMONTH=3
TZNAME:EDT
TZOFFSETFROM:-0500
TZOFFSETTO:-0400
END:DAYLIGHT
END:VTIMEZONE
BEGIN:VEVENT
DESCRIPTION:2023 Annual Meeting by the American Academy of Neurology\n\nTi
 tle: Headache and Facial Pain Informal Social Gathering\n\nAccess URL: ht
 tps://www.aan.com/msa/Public/Events/GetEventURL/16503\n\nLearn More About
  This Event: https://www.aan.com/msa/Public/Events/Details/16503
DTEND;TZID=Eastern Standard Time:20230426T090000
DTSTAMP:20260424T053427Z
DTSTART;TZID=Eastern Standard Time:20230426T080000
LOCATION:https://www.aan.com/msa/Public/Events/GetEventURL/16503
SEQUENCE:0
SUMMARY:AAN: Headache and Facial Pain Informal Social Gathering
UID:5e8a6555-c745-4cbd-9154-7e7ad9c709a8
END:VEVENT
END:VCALENDAR
