BEGIN:VCALENDAR
PRODID:-//github.com/rianjs/ical.net//NONSGML ical.net 4.0//EN
VERSION:2.0
BEGIN:VTIMEZONE
TZID:Eastern Standard Time
X-LIC-LOCATION:America/New_York
BEGIN:STANDARD
DTSTART:20241103T020000
RRULE:FREQ=YEARLY;BYDAY=1SU;BYMONTH=11
TZNAME:EST
TZOFFSETFROM:-0400
TZOFFSETTO:-0500
END:STANDARD
BEGIN:DAYLIGHT
DTSTART:20250309T020000
RRULE:FREQ=YEARLY;BYDAY=2SU;BYMONTH=3
TZNAME:EDT
TZOFFSETFROM:-0500
TZOFFSETTO:-0400
END:DAYLIGHT
END:VTIMEZONE
BEGIN:VEVENT
DESCRIPTION:2023 Annual Meeting by the American Academy of Neurology\n\nTi
 tle: Endovascular and Interventional Neurology Section Informal Social Ga
 thering\n\nAccess URL: https://www.aan.com/msa/Public/Events/GetEventURL/
 16504\n\nLearn More About This Event: https://www.aan.com/msa/Public/Even
 ts/Details/16504
DTEND;TZID=Eastern Standard Time:20230426T150000
DTSTAMP:20260423T214040Z
DTSTART;TZID=Eastern Standard Time:20230426T140000
LOCATION:https://www.aan.com/msa/Public/Events/GetEventURL/16504
SEQUENCE:0
SUMMARY:AAN: Endovascular and Interventional Neurology Section Informal So
 cial Gathering
UID:f6e446d7-775c-48e4-bdf4-65be8a78da98
END:VEVENT
END:VCALENDAR
