BEGIN:VCALENDAR
PRODID:-//github.com/rianjs/ical.net//NONSGML ical.net 4.0//EN
VERSION:2.0
BEGIN:VTIMEZONE
TZID:Mountain Standard Time
X-LIC-LOCATION:America/Denver
BEGIN:STANDARD
DTSTART:20241103T020000
RRULE:FREQ=YEARLY;BYDAY=1SU;BYMONTH=11
TZNAME:MST
TZOFFSETFROM:-0600
TZOFFSETTO:-0700
END:STANDARD
BEGIN:DAYLIGHT
DTSTART:20250309T020000
RRULE:FREQ=YEARLY;BYDAY=2SU;BYMONTH=3
TZNAME:MDT
TZOFFSETFROM:-0700
TZOFFSETTO:-0600
END:DAYLIGHT
END:VTIMEZONE
BEGIN:VEVENT
DESCRIPTION:2024 Annual Meeting by the American Academy of Neurology\n\nTi
 tle: Hot Topics Plenary Session: Brain Health Across the Lifespan\n\nAcce
 ss URL: https://www.aan.com/msa/Public/Events/GetEventURL/16557\n\nLearn 
 More About This Event: https://www.aan.com/msa/Public/Events/Details/1655
 7
DTEND;TZID=Mountain Standard Time:20240413T174500
DTSTAMP:20260423T164843Z
DTSTART;TZID=Mountain Standard Time:20240413T164500
LOCATION:https://www.aan.com/msa/Public/Events/GetEventURL/16557
SEQUENCE:0
SUMMARY:AAN: Hot Topics Plenary Session: Brain Health Across the Lifespan
UID:da46d562-caa8-483e-aba5-0f42b26d64f7
END:VEVENT
END:VCALENDAR
