BEGIN:VCALENDAR
PRODID:-//github.com/rianjs/ical.net//NONSGML ical.net 4.0//EN
VERSION:2.0
BEGIN:VTIMEZONE
TZID:Mountain Standard Time
X-LIC-LOCATION:America/Denver
BEGIN:STANDARD
DTSTART:20241103T020000
RRULE:FREQ=YEARLY;BYDAY=1SU;BYMONTH=11
TZNAME:MST
TZOFFSETFROM:-0600
TZOFFSETTO:-0700
END:STANDARD
BEGIN:DAYLIGHT
DTSTART:20250309T020000
RRULE:FREQ=YEARLY;BYDAY=2SU;BYMONTH=3
TZNAME:MDT
TZOFFSETFROM:-0700
TZOFFSETTO:-0600
END:DAYLIGHT
END:VTIMEZONE
BEGIN:VEVENT
DESCRIPTION:2024 Annual Meeting by the American Academy of Neurology\n\nTi
 tle: Continuum Test Your Knowledge: A Multiple-choice Question Review 2\n
 \nAccess URL: https://www.aan.com/msa/Public/Events/GetEventURL/16688\n\n
 Learn More About This Event: https://www.aan.com/msa/Public/Events/Detail
 s/16688
DTEND;TZID=Mountain Standard Time:20240417T173000
DTSTAMP:20260423T165233Z
DTSTART;TZID=Mountain Standard Time:20240417T153000
LOCATION:https://www.aan.com/msa/Public/Events/GetEventURL/16688
SEQUENCE:0
SUMMARY:AAN: Continuum Test Your Knowledge: A Multiple-choice Question Rev
 iew 2
UID:064a719e-22d4-442a-9acc-68274d99ec32
END:VEVENT
END:VCALENDAR
