BEGIN:VCALENDAR
PRODID:-//github.com/rianjs/ical.net//NONSGML ical.net 4.0//EN
VERSION:2.0
BEGIN:VTIMEZONE
TZID:Mountain Standard Time
X-LIC-LOCATION:America/Denver
BEGIN:STANDARD
DTSTART:20241103T020000
RRULE:FREQ=YEARLY;BYDAY=1SU;BYMONTH=11
TZNAME:MST
TZOFFSETFROM:-0600
TZOFFSETTO:-0700
END:STANDARD
BEGIN:DAYLIGHT
DTSTART:20250309T020000
RRULE:FREQ=YEARLY;BYDAY=2SU;BYMONTH=3
TZNAME:MDT
TZOFFSETFROM:-0700
TZOFFSETTO:-0600
END:DAYLIGHT
END:VTIMEZONE
BEGIN:VEVENT
DESCRIPTION:2024 Annual Meeting by the American Academy of Neurology\n\nTi
 tle: Diagnosis and Management of Concussions\n\nAccess URL: https://www.a
 an.com/msa/Public/Events/GetEventURL/16694\n\nLearn More About This Event
 : https://www.aan.com/msa/Public/Events/Details/16694
DTEND;TZID=Mountain Standard Time:20240414T150000
DTSTAMP:20260423T165131Z
DTSTART;TZID=Mountain Standard Time:20240414T130000
LOCATION:https://www.aan.com/msa/Public/Events/GetEventURL/16694
SEQUENCE:0
SUMMARY:AAN: Diagnosis and Management of Concussions
UID:feb53155-3e55-4e1e-8bf1-718f070d6545
END:VEVENT
END:VCALENDAR
