BEGIN:VCALENDAR
PRODID:-//github.com/rianjs/ical.net//NONSGML ical.net 4.0//EN
VERSION:2.0
BEGIN:VTIMEZONE
TZID:Mountain Standard Time
X-LIC-LOCATION:America/Denver
BEGIN:STANDARD
DTSTART:20241103T020000
RRULE:FREQ=YEARLY;BYDAY=1SU;BYMONTH=11
TZNAME:MST
TZOFFSETFROM:-0600
TZOFFSETTO:-0700
END:STANDARD
BEGIN:DAYLIGHT
DTSTART:20250309T020000
RRULE:FREQ=YEARLY;BYDAY=2SU;BYMONTH=3
TZNAME:MDT
TZOFFSETFROM:-0700
TZOFFSETTO:-0600
END:DAYLIGHT
END:VTIMEZONE
BEGIN:VEVENT
DESCRIPTION:2024 Annual Meeting by the American Academy of Neurology\n\nTi
 tle: Lumbar Radiculopathy\, Lumbar Spinal Stenosis\, Low Back Pain\, and 
 Failed Back Syndrome\n\nAccess URL: https://www.aan.com/msa/Public/Events
 /GetEventURL/16704\n\nLearn More About This Event: https://www.aan.com/ms
 a/Public/Events/Details/16704
DTEND;TZID=Mountain Standard Time:20240415T173000
DTSTAMP:20260423T165034Z
DTSTART;TZID=Mountain Standard Time:20240415T153000
LOCATION:https://www.aan.com/msa/Public/Events/GetEventURL/16704
SEQUENCE:0
SUMMARY:AAN: Lumbar Radiculopathy\, Lumbar Spinal Stenosis\, Low Back Pain
 \, and Failed Back Syndrome
UID:9bdbb6e7-6fa1-4135-a25f-3a0c00d167bd
END:VEVENT
END:VCALENDAR
