BEGIN:VCALENDAR
PRODID:-//github.com/rianjs/ical.net//NONSGML ical.net 4.0//EN
VERSION:2.0
BEGIN:VTIMEZONE
TZID:Mountain Standard Time
X-LIC-LOCATION:America/Denver
BEGIN:STANDARD
DTSTART:20241103T020000
RRULE:FREQ=YEARLY;BYDAY=1SU;BYMONTH=11
TZNAME:MST
TZOFFSETFROM:-0600
TZOFFSETTO:-0700
END:STANDARD
BEGIN:DAYLIGHT
DTSTART:20250309T020000
RRULE:FREQ=YEARLY;BYDAY=2SU;BYMONTH=3
TZNAME:MDT
TZOFFSETFROM:-0700
TZOFFSETTO:-0600
END:DAYLIGHT
END:VTIMEZONE
BEGIN:VEVENT
DESCRIPTION:2024 Annual Meeting by the American Academy of Neurology\n\nTi
 tle: Evaluation and Management of Autonomic Disorders: Autonomic Testing\
 , Failure\, and Peripheral Neuropathies\n\nAccess URL: https://www.aan.co
 m/msa/Public/Events/GetEventURL/16725\n\nLearn More About This Event: htt
 ps://www.aan.com/msa/Public/Events/Details/16725
DTEND;TZID=Mountain Standard Time:20240418T090000
DTSTAMP:20260423T165028Z
DTSTART;TZID=Mountain Standard Time:20240418T070000
LOCATION:https://www.aan.com/msa/Public/Events/GetEventURL/16725
SEQUENCE:0
SUMMARY:AAN: Evaluation and Management of Autonomic Disorders: Autonomic T
 esting\, Failure\, and Peripheral Neuropathies
UID:0b03c0d9-8551-4822-99e7-1ab30ffebbd3
END:VEVENT
END:VCALENDAR
