BEGIN:VCALENDAR
PRODID:-//github.com/rianjs/ical.net//NONSGML ical.net 4.0//EN
VERSION:2.0
BEGIN:VTIMEZONE
TZID:Mountain Standard Time
X-LIC-LOCATION:America/Denver
BEGIN:STANDARD
DTSTART:20241103T020000
RRULE:FREQ=YEARLY;BYDAY=1SU;BYMONTH=11
TZNAME:MST
TZOFFSETFROM:-0600
TZOFFSETTO:-0700
END:STANDARD
BEGIN:DAYLIGHT
DTSTART:20250309T020000
RRULE:FREQ=YEARLY;BYDAY=2SU;BYMONTH=3
TZNAME:MDT
TZOFFSETFROM:-0700
TZOFFSETTO:-0600
END:DAYLIGHT
END:VTIMEZONE
BEGIN:VEVENT
DESCRIPTION:2024 Annual Meeting by the American Academy of Neurology\n\nTi
 tle: Clinical EMG 2: Case-based Clinical Applications of Nerve Conduction
  Studies and Needle Electromyography\n\nAccess URL: https://www.aan.com/m
 sa/Public/Events/GetEventURL/16726\n\nLearn More About This Event: https:
 //www.aan.com/msa/Public/Events/Details/16726
DTEND;TZID=Mountain Standard Time:20240417T173000
DTSTAMP:20260423T165029Z
DTSTART;TZID=Mountain Standard Time:20240417T153000
LOCATION:https://www.aan.com/msa/Public/Events/GetEventURL/16726
SEQUENCE:0
SUMMARY:AAN: Clinical EMG 2: Case-based Clinical Applications of Nerve Con
 duction Studies and Needle Electromyography
UID:3192c236-66db-4769-bd5d-baf8574df292
END:VEVENT
END:VCALENDAR
