BEGIN:VCALENDAR
PRODID:-//github.com/rianjs/ical.net//NONSGML ical.net 4.0//EN
VERSION:2.0
BEGIN:VTIMEZONE
TZID:Mountain Standard Time
X-LIC-LOCATION:America/Denver
BEGIN:STANDARD
DTSTART:20241103T020000
RRULE:FREQ=YEARLY;BYDAY=1SU;BYMONTH=11
TZNAME:MST
TZOFFSETFROM:-0600
TZOFFSETTO:-0700
END:STANDARD
BEGIN:DAYLIGHT
DTSTART:20250309T020000
RRULE:FREQ=YEARLY;BYDAY=2SU;BYMONTH=3
TZNAME:MDT
TZOFFSETFROM:-0700
TZOFFSETTO:-0600
END:DAYLIGHT
END:VTIMEZONE
BEGIN:VEVENT
DESCRIPTION:2024 Annual Meeting by the American Academy of Neurology\n\nTi
 tle: Clinical EMG 1: Nerve Conduction Studies and Needle EMG: Patterns in
  Neuromuscular Disorders\n\nAccess URL: https://www.aan.com/msa/Public/Ev
 ents/GetEventURL/16727\n\nLearn More About This Event: https://www.aan.co
 m/msa/Public/Events/Details/16727
DTEND;TZID=Mountain Standard Time:20240417T150000
DTSTAMP:20260423T165131Z
DTSTART;TZID=Mountain Standard Time:20240417T130000
LOCATION:https://www.aan.com/msa/Public/Events/GetEventURL/16727
SEQUENCE:0
SUMMARY:AAN: Clinical EMG 1: Nerve Conduction Studies and Needle EMG: Patt
 erns in Neuromuscular Disorders
UID:a54a1ffd-64ec-4e88-9f2e-4116f8671eff
END:VEVENT
END:VCALENDAR
