BEGIN:VCALENDAR
PRODID:-//github.com/rianjs/ical.net//NONSGML ical.net 4.0//EN
VERSION:2.0
BEGIN:VTIMEZONE
TZID:Mountain Standard Time
X-LIC-LOCATION:America/Denver
BEGIN:STANDARD
DTSTART:20241103T020000
RRULE:FREQ=YEARLY;BYDAY=1SU;BYMONTH=11
TZNAME:MST
TZOFFSETFROM:-0600
TZOFFSETTO:-0700
END:STANDARD
BEGIN:DAYLIGHT
DTSTART:20250309T020000
RRULE:FREQ=YEARLY;BYDAY=2SU;BYMONTH=3
TZNAME:MDT
TZOFFSETFROM:-0700
TZOFFSETTO:-0600
END:DAYLIGHT
END:VTIMEZONE
BEGIN:VEVENT
DESCRIPTION:2024 Annual Meeting by the American Academy of Neurology\n\nTi
 tle: Neurologic Complications of HIV\n\nAccess URL: https://www.aan.com/m
 sa/Public/Events/GetEventURL/16759\n\nLearn More About This Event: https:
 //www.aan.com/msa/Public/Events/Details/16759
DTEND;TZID=Mountain Standard Time:20240418T090000
DTSTAMP:20260423T165028Z
DTSTART;TZID=Mountain Standard Time:20240418T070000
LOCATION:https://www.aan.com/msa/Public/Events/GetEventURL/16759
SEQUENCE:0
SUMMARY:AAN: Neurologic Complications of HIV
UID:a95ad7af-813a-4ef4-bf93-b6749b092b65
END:VEVENT
END:VCALENDAR
