BEGIN:VCALENDAR
PRODID:-//github.com/rianjs/ical.net//NONSGML ical.net 4.0//EN
VERSION:2.0
BEGIN:VTIMEZONE
TZID:Mountain Standard Time
X-LIC-LOCATION:America/Denver
BEGIN:STANDARD
DTSTART:20241103T020000
RRULE:FREQ=YEARLY;BYDAY=1SU;BYMONTH=11
TZNAME:MST
TZOFFSETFROM:-0600
TZOFFSETTO:-0700
END:STANDARD
BEGIN:DAYLIGHT
DTSTART:20250309T020000
RRULE:FREQ=YEARLY;BYDAY=2SU;BYMONTH=3
TZNAME:MDT
TZOFFSETFROM:-0700
TZOFFSETTO:-0600
END:DAYLIGHT
END:VTIMEZONE
BEGIN:VEVENT
DESCRIPTION:2024 Annual Meeting by the American Academy of Neurology\n\nTi
 tle: Neurologic Case Studies in Pregnancy\n\nAccess URL: https://www.aan.
 com/msa/Public/Events/GetEventURL/16782\n\nLearn More About This Event: h
 ttps://www.aan.com/msa/Public/Events/Details/16782
DTEND;TZID=Mountain Standard Time:20240413T140000
DTSTAMP:20260423T181327Z
DTSTART;TZID=Mountain Standard Time:20240413T120000
LOCATION:https://www.aan.com/msa/Public/Events/GetEventURL/16782
SEQUENCE:0
SUMMARY:AAN: Neurologic Case Studies in Pregnancy
UID:4273c0a5-4c8c-4e7d-9c9d-e40d5396566f
END:VEVENT
END:VCALENDAR
