BEGIN:VCALENDAR
PRODID:-//github.com/rianjs/ical.net//NONSGML ical.net 4.0//EN
VERSION:2.0
BEGIN:VTIMEZONE
TZID:Mountain Standard Time
X-LIC-LOCATION:America/Denver
BEGIN:STANDARD
DTSTART:20241103T020000
RRULE:FREQ=YEARLY;BYDAY=1SU;BYMONTH=11
TZNAME:MST
TZOFFSETFROM:-0600
TZOFFSETTO:-0700
END:STANDARD
BEGIN:DAYLIGHT
DTSTART:20250309T020000
RRULE:FREQ=YEARLY;BYDAY=2SU;BYMONTH=3
TZNAME:MDT
TZOFFSETFROM:-0700
TZOFFSETTO:-0600
END:DAYLIGHT
END:VTIMEZONE
BEGIN:VEVENT
DESCRIPTION:2024 Annual Meeting by the American Academy of Neurology\n\nTi
 tle: Neurologic Conditions in Transgender Patients\n\nAccess URL: https:/
 /www.aan.com/msa/Public/Events/GetEventURL/16794\n\nLearn More About This
  Event: https://www.aan.com/msa/Public/Events/Details/16794
DTEND;TZID=Mountain Standard Time:20240418T150000
DTSTAMP:20260423T164859Z
DTSTART;TZID=Mountain Standard Time:20240418T130000
LOCATION:https://www.aan.com/msa/Public/Events/GetEventURL/16794
SEQUENCE:0
SUMMARY:AAN: Neurologic Conditions in Transgender Patients
UID:f26c4533-1a4b-47ac-8bc8-d897b45186ea
END:VEVENT
END:VCALENDAR
