BEGIN:VCALENDAR
PRODID:-//github.com/rianjs/ical.net//NONSGML ical.net 4.0//EN
VERSION:2.0
BEGIN:VTIMEZONE
TZID:Mountain Standard Time
X-LIC-LOCATION:America/Denver
BEGIN:STANDARD
DTSTART:20241103T020000
RRULE:FREQ=YEARLY;BYDAY=1SU;BYMONTH=11
TZNAME:MST
TZOFFSETFROM:-0600
TZOFFSETTO:-0700
END:STANDARD
BEGIN:DAYLIGHT
DTSTART:20250309T020000
RRULE:FREQ=YEARLY;BYDAY=2SU;BYMONTH=3
TZNAME:MDT
TZOFFSETFROM:-0700
TZOFFSETTO:-0600
END:DAYLIGHT
END:VTIMEZONE
BEGIN:VEVENT
DESCRIPTION:2024 Annual Meeting by the American Academy of Neurology\n\nTi
 tle: Case Studies: Diagnosis and Management of Unusual Cases in Neuromusc
 ular Disease\n\nAccess URL: https://www.aan.com/msa/Public/Events/GetEven
 tURL/16806\n\nLearn More About This Event: https://www.aan.com/msa/Public
 /Events/Details/16806
DTEND;TZID=Mountain Standard Time:20240417T200000
DTSTAMP:20260423T165029Z
DTSTART;TZID=Mountain Standard Time:20240417T180000
LOCATION:https://www.aan.com/msa/Public/Events/GetEventURL/16806
SEQUENCE:0
SUMMARY:AAN: Case Studies: Diagnosis and Management of Unusual Cases in Ne
 uromuscular Disease
UID:b66e7a0e-0668-4b4a-b5e9-66fb873af907
END:VEVENT
END:VCALENDAR
