BEGIN:VCALENDAR
PRODID:-//github.com/rianjs/ical.net//NONSGML ical.net 4.0//EN
VERSION:2.0
BEGIN:VTIMEZONE
TZID:Mountain Standard Time
X-LIC-LOCATION:America/Denver
BEGIN:STANDARD
DTSTART:20241103T020000
RRULE:FREQ=YEARLY;BYDAY=1SU;BYMONTH=11
TZNAME:MST
TZOFFSETFROM:-0600
TZOFFSETTO:-0700
END:STANDARD
BEGIN:DAYLIGHT
DTSTART:20250309T020000
RRULE:FREQ=YEARLY;BYDAY=2SU;BYMONTH=3
TZNAME:MDT
TZOFFSETFROM:-0700
TZOFFSETTO:-0600
END:DAYLIGHT
END:VTIMEZONE
BEGIN:VEVENT
DESCRIPTION:2024 Annual Meeting by the American Academy of Neurology\n\nTi
 tle: Leadership Curriculum for Residents (Leadership University)\n\nAcces
 s URL: https://www.aan.com/msa/Public/Events/GetEventURL/16874\n\nLearn M
 ore About This Event: https://www.aan.com/msa/Public/Events/Details/16874
DTEND;TZID=Mountain Standard Time:20240418T090000
DTSTAMP:20260423T165232Z
DTSTART;TZID=Mountain Standard Time:20240418T080000
LOCATION:https://www.aan.com/msa/Public/Events/GetEventURL/16874
SEQUENCE:0
SUMMARY:AAN: Leadership Curriculum for Residents (Leadership University)
UID:8e225224-b447-4427-86eb-8693e46a056b
END:VEVENT
END:VCALENDAR
