BEGIN:VCALENDAR
PRODID:-//github.com/rianjs/ical.net//NONSGML ical.net 4.0//EN
VERSION:2.0
BEGIN:VTIMEZONE
TZID:Mountain Standard Time
X-LIC-LOCATION:America/Denver
BEGIN:STANDARD
DTSTART:20241103T020000
RRULE:FREQ=YEARLY;BYDAY=1SU;BYMONTH=11
TZNAME:MST
TZOFFSETFROM:-0600
TZOFFSETTO:-0700
END:STANDARD
BEGIN:DAYLIGHT
DTSTART:20250309T020000
RRULE:FREQ=YEARLY;BYDAY=2SU;BYMONTH=3
TZNAME:MDT
TZOFFSETFROM:-0700
TZOFFSETTO:-0600
END:DAYLIGHT
END:VTIMEZONE
BEGIN:VEVENT
DESCRIPTION:2024 Annual Meeting by the American Academy of Neurology\n\nTi
 tle: Climate Change and Brain Health: What Do We Know and What Can We Do?
 \n\nAccess URL: https://www.aan.com/msa/Public/Events/GetEventURL/16898\n
 \nLearn More About This Event: https://www.aan.com/msa/Public/Events/Deta
 ils/16898
DTEND;TZID=Mountain Standard Time:20240415T121500
DTSTAMP:20260423T181419Z
DTSTART;TZID=Mountain Standard Time:20240415T111500
LOCATION:https://www.aan.com/msa/Public/Events/GetEventURL/16898
SEQUENCE:0
SUMMARY:AAN: Climate Change and Brain Health: What Do We Know and What Can
  We Do?
UID:2a897ba1-0b0c-4d34-b026-cc0e95ce5070
END:VEVENT
END:VCALENDAR
