BEGIN:VCALENDAR
PRODID:-//github.com/rianjs/ical.net//NONSGML ical.net 4.0//EN
VERSION:2.0
BEGIN:VTIMEZONE
TZID:Mountain Standard Time
X-LIC-LOCATION:America/Denver
BEGIN:STANDARD
DTSTART:20241103T020000
RRULE:FREQ=YEARLY;BYDAY=1SU;BYMONTH=11
TZNAME:MST
TZOFFSETFROM:-0600
TZOFFSETTO:-0700
END:STANDARD
BEGIN:DAYLIGHT
DTSTART:20250309T020000
RRULE:FREQ=YEARLY;BYDAY=2SU;BYMONTH=3
TZNAME:MDT
TZOFFSETFROM:-0700
TZOFFSETTO:-0600
END:DAYLIGHT
END:VTIMEZONE
BEGIN:VEVENT
DESCRIPTION:2024 Annual Meeting by the American Academy of Neurology\n\nTi
 tle: The New Era of Brain Health Across the Lifespan: How Science and Pub
 lic Policy Can Improve Neurologic Outcomes for All\n\nAccess URL: https:/
 /www.aan.com/msa/Public/Events/GetEventURL/16904\n\nLearn More About This
  Event: https://www.aan.com/msa/Public/Events/Details/16904
DTEND;TZID=Mountain Standard Time:20240417T173000
DTSTAMP:20260423T164912Z
DTSTART;TZID=Mountain Standard Time:20240417T153000
LOCATION:https://www.aan.com/msa/Public/Events/GetEventURL/16904
SEQUENCE:0
SUMMARY:AAN: The New Era of Brain Health Across the Lifespan: How Science 
 and Public Policy Can Improve Neurologic Outcomes for All
UID:b8e9fa3a-b007-4f9a-8f63-ab02ed993a17
END:VEVENT
END:VCALENDAR
