BEGIN:VCALENDAR
PRODID:-//github.com/rianjs/ical.net//NONSGML ical.net 4.0//EN
VERSION:2.0
BEGIN:VTIMEZONE
TZID:Mountain Standard Time
X-LIC-LOCATION:America/Denver
BEGIN:STANDARD
DTSTART:20241103T020000
RRULE:FREQ=YEARLY;BYDAY=1SU;BYMONTH=11
TZNAME:MST
TZOFFSETFROM:-0600
TZOFFSETTO:-0700
END:STANDARD
BEGIN:DAYLIGHT
DTSTART:20250309T020000
RRULE:FREQ=YEARLY;BYDAY=2SU;BYMONTH=3
TZNAME:MDT
TZOFFSETFROM:-0700
TZOFFSETTO:-0600
END:DAYLIGHT
END:VTIMEZONE
BEGIN:VEVENT
DESCRIPTION:2024 Annual Meeting by the American Academy of Neurology\n\nTi
 tle: Music and Neurology: When Music Sings\, the Brain Listens and the He
 art Modulates (HeadTalks)\n\nAccess URL: https://www.aan.com/msa/Public/E
 vents/GetEventURL/16920\n\nLearn More About This Event: https://www.aan.c
 om/msa/Public/Events/Details/16920
DTEND;TZID=Mountain Standard Time:20240416T133000
DTSTAMP:20260423T164859Z
DTSTART;TZID=Mountain Standard Time:20240416T120000
LOCATION:https://www.aan.com/msa/Public/Events/GetEventURL/16920
SEQUENCE:0
SUMMARY:AAN: Music and Neurology: When Music Sings\, the Brain Listens and
  the Heart Modulates (HeadTalks)
UID:115e8521-a14c-46ec-9ef5-50734fa58c78
END:VEVENT
END:VCALENDAR
