BEGIN:VCALENDAR
PRODID:-//github.com/rianjs/ical.net//NONSGML ical.net 4.0//EN
VERSION:2.0
BEGIN:VTIMEZONE
TZID:Mountain Standard Time
X-LIC-LOCATION:America/Denver
BEGIN:STANDARD
DTSTART:20241103T020000
RRULE:FREQ=YEARLY;BYDAY=1SU;BYMONTH=11
TZNAME:MST
TZOFFSETFROM:-0600
TZOFFSETTO:-0700
END:STANDARD
BEGIN:DAYLIGHT
DTSTART:20250309T020000
RRULE:FREQ=YEARLY;BYDAY=2SU;BYMONTH=3
TZNAME:MDT
TZOFFSETFROM:-0700
TZOFFSETTO:-0600
END:DAYLIGHT
END:VTIMEZONE
BEGIN:VEVENT
DESCRIPTION:2024 Annual Meeting by the American Academy of Neurology\n\nTi
 tle: A Neurologist's Ultimate Fashion Experience (HeadTalks)\n\nAccess UR
 L: https://www.aan.com/msa/Public/Events/GetEventURL/16927\n\nLearn More 
 About This Event: https://www.aan.com/msa/Public/Events/Details/16927
DTEND;TZID=Mountain Standard Time:20240414T173000
DTSTAMP:20260423T164841Z
DTSTART;TZID=Mountain Standard Time:20240414T164500
LOCATION:https://www.aan.com/msa/Public/Events/GetEventURL/16927
SEQUENCE:0
SUMMARY:AAN: A Neurologist's Ultimate Fashion Experience (HeadTalks)
UID:8143813d-239b-4714-a1c0-b103ac465ba5
END:VEVENT
END:VCALENDAR
