BEGIN:VCALENDAR
PRODID:-//github.com/rianjs/ical.net//NONSGML ical.net 4.0//EN
VERSION:2.0
BEGIN:VTIMEZONE
TZID:Mountain Standard Time
X-LIC-LOCATION:America/Denver
BEGIN:STANDARD
DTSTART:20241103T020000
RRULE:FREQ=YEARLY;BYDAY=1SU;BYMONTH=11
TZNAME:MST
TZOFFSETFROM:-0600
TZOFFSETTO:-0700
END:STANDARD
BEGIN:DAYLIGHT
DTSTART:20250309T020000
RRULE:FREQ=YEARLY;BYDAY=2SU;BYMONTH=3
TZNAME:MDT
TZOFFSETFROM:-0700
TZOFFSETTO:-0600
END:DAYLIGHT
END:VTIMEZONE
BEGIN:VEVENT
DESCRIPTION:2024 Annual Meeting by the American Academy of Neurology\n\nTi
 tle: The Neurology of Optical Illusions and Other Misperceptions (HeadTal
 ks)\n\nAccess URL: https://www.aan.com/msa/Public/Events/GetEventURL/1693
 4\n\nLearn More About This Event: https://www.aan.com/msa/Public/Events/D
 etails/16934
DTEND;TZID=Mountain Standard Time:20240415T143000
DTSTAMP:20260423T164927Z
DTSTART;TZID=Mountain Standard Time:20240415T134500
LOCATION:https://www.aan.com/msa/Public/Events/GetEventURL/16934
SEQUENCE:0
SUMMARY:AAN: The Neurology of Optical Illusions and Other Misperceptions (
 HeadTalks)
UID:b60d13a0-8df2-4b50-b85d-a3bbeeaeb0c1
END:VEVENT
END:VCALENDAR
