BEGIN:VCALENDAR
PRODID:-//github.com/rianjs/ical.net//NONSGML ical.net 4.0//EN
VERSION:2.0
BEGIN:VTIMEZONE
TZID:Mountain Standard Time
X-LIC-LOCATION:America/Denver
BEGIN:STANDARD
DTSTART:20241103T020000
RRULE:FREQ=YEARLY;BYDAY=1SU;BYMONTH=11
TZNAME:MST
TZOFFSETFROM:-0600
TZOFFSETTO:-0700
END:STANDARD
BEGIN:DAYLIGHT
DTSTART:20250309T020000
RRULE:FREQ=YEARLY;BYDAY=2SU;BYMONTH=3
TZNAME:MDT
TZOFFSETFROM:-0700
TZOFFSETTO:-0600
END:DAYLIGHT
END:VTIMEZONE
BEGIN:VEVENT
DESCRIPTION:2024 Annual Meeting by the American Academy of Neurology\n\nTi
 tle: Wellness at Any Career Stage: Preparing for Retirement (Wellness Hub
 )\n\nAccess URL: https://www.aan.com/msa/Public/Events/GetEventURL/16955\
 n\nLearn More About This Event: https://www.aan.com/msa/Public/Events/Det
 ails/16955
DTEND;TZID=Mountain Standard Time:20240413T084500
DTSTAMP:20260423T164910Z
DTSTART;TZID=Mountain Standard Time:20240413T081500
LOCATION:https://www.aan.com/msa/Public/Events/GetEventURL/16955
SEQUENCE:0
SUMMARY:AAN: Wellness at Any Career Stage: Preparing for Retirement (Welln
 ess Hub)
UID:b3e921ea-fdb6-4a9e-9b6e-8f8a941f872f
END:VEVENT
END:VCALENDAR
