BEGIN:VCALENDAR
PRODID:-//github.com/rianjs/ical.net//NONSGML ical.net 4.0//EN
VERSION:2.0
BEGIN:VTIMEZONE
TZID:Mountain Standard Time
X-LIC-LOCATION:America/Denver
BEGIN:STANDARD
DTSTART:20241103T020000
RRULE:FREQ=YEARLY;BYDAY=1SU;BYMONTH=11
TZNAME:MST
TZOFFSETFROM:-0600
TZOFFSETTO:-0700
END:STANDARD
BEGIN:DAYLIGHT
DTSTART:20250309T020000
RRULE:FREQ=YEARLY;BYDAY=2SU;BYMONTH=3
TZNAME:MDT
TZOFFSETFROM:-0700
TZOFFSETTO:-0600
END:DAYLIGHT
END:VTIMEZONE
BEGIN:VEVENT
DESCRIPTION:2024 Annual Meeting by the American Academy of Neurology\n\nTi
 tle: Medical Student Meet and Greet (Trainee Hub)\n\nAccess URL: https://
 www.aan.com/msa/Public/Events/GetEventURL/16959\n\nLearn More About This 
 Event: https://www.aan.com/msa/Public/Events/Details/16959
DTEND;TZID=Mountain Standard Time:20240414T090000
DTSTAMP:20260423T164839Z
DTSTART;TZID=Mountain Standard Time:20240414T080000
LOCATION:https://www.aan.com/msa/Public/Events/GetEventURL/16959
SEQUENCE:0
SUMMARY:AAN: Medical Student Meet and Greet (Trainee Hub)
UID:d4f0dc2b-ef85-45f4-a059-0fe7e097a7c4
END:VEVENT
END:VCALENDAR
