BEGIN:VCALENDAR
PRODID:-//github.com/rianjs/ical.net//NONSGML ical.net 4.0//EN
VERSION:2.0
BEGIN:VTIMEZONE
TZID:Mountain Standard Time
X-LIC-LOCATION:America/Denver
BEGIN:STANDARD
DTSTART:20241103T020000
RRULE:FREQ=YEARLY;BYDAY=1SU;BYMONTH=11
TZNAME:MST
TZOFFSETFROM:-0600
TZOFFSETTO:-0700
END:STANDARD
BEGIN:DAYLIGHT
DTSTART:20250309T020000
RRULE:FREQ=YEARLY;BYDAY=2SU;BYMONTH=3
TZNAME:MDT
TZOFFSETFROM:-0700
TZOFFSETTO:-0600
END:DAYLIGHT
END:VTIMEZONE
BEGIN:VEVENT
DESCRIPTION:2024 Annual Meeting by the American Academy of Neurology\n\nTi
 tle: How to Prepare for Interviews (for Residency and Everything Else) (T
 rainee Hub)\n\nAccess URL: https://www.aan.com/msa/Public/Events/GetEvent
 URL/16960\n\nLearn More About This Event: https://www.aan.com/msa/Public/
 Events/Details/16960
DTEND;TZID=Mountain Standard Time:20240413T133000
DTSTAMP:20260423T165314Z
DTSTART;TZID=Mountain Standard Time:20240413T120000
LOCATION:https://www.aan.com/msa/Public/Events/GetEventURL/16960
SEQUENCE:0
SUMMARY:AAN: How to Prepare for Interviews (for Residency and Everything E
 lse) (Trainee Hub)
UID:ea3dd43d-7f26-4657-93c5-af7f277d0e2a
END:VEVENT
END:VCALENDAR
