BEGIN:VCALENDAR
PRODID:-//github.com/rianjs/ical.net//NONSGML ical.net 4.0//EN
VERSION:2.0
BEGIN:VTIMEZONE
TZID:Mountain Standard Time
X-LIC-LOCATION:America/Denver
BEGIN:STANDARD
DTSTART:20241103T020000
RRULE:FREQ=YEARLY;BYDAY=1SU;BYMONTH=11
TZNAME:MST
TZOFFSETFROM:-0600
TZOFFSETTO:-0700
END:STANDARD
BEGIN:DAYLIGHT
DTSTART:20250309T020000
RRULE:FREQ=YEARLY;BYDAY=2SU;BYMONTH=3
TZNAME:MDT
TZOFFSETFROM:-0700
TZOFFSETTO:-0600
END:DAYLIGHT
END:VTIMEZONE
BEGIN:VEVENT
DESCRIPTION:2024 Annual Meeting by the American Academy of Neurology\n\nTi
 tle: Industry Therapeutic Update from Supernus Pharmaceuticals: Increasin
 g GOOD ON time while reducing dyskinesia and OFF time in Parkinson’s dise
 ase\n\nAccess URL: https://www.aan.com/msa/Public/Events/GetEventURL/1710
 1\n\nLearn More About This Event: https://www.aan.com/msa/Public/Events/D
 etails/17101
DTEND;TZID=Mountain Standard Time:20240413T124500
DTSTAMP:20260423T165029Z
DTSTART;TZID=Mountain Standard Time:20240413T114500
LOCATION:https://www.aan.com/msa/Public/Events/GetEventURL/17101
SEQUENCE:0
SUMMARY:AAN: Industry Therapeutic Update from Supernus Pharmaceuticals: In
 creasing GOOD ON time while reducing dyskinesia and OFF time in Parkinson
 ’s disease
UID:723b6d2d-87a9-46e2-b7b2-54224187a93e
END:VEVENT
END:VCALENDAR
