BEGIN:VCALENDAR
PRODID:-//github.com/rianjs/ical.net//NONSGML ical.net 4.0//EN
VERSION:2.0
BEGIN:VTIMEZONE
TZID:Mountain Standard Time
X-LIC-LOCATION:America/Denver
BEGIN:STANDARD
DTSTART:20241103T020000
RRULE:FREQ=YEARLY;BYDAY=1SU;BYMONTH=11
TZNAME:MST
TZOFFSETFROM:-0600
TZOFFSETTO:-0700
END:STANDARD
BEGIN:DAYLIGHT
DTSTART:20250309T020000
RRULE:FREQ=YEARLY;BYDAY=2SU;BYMONTH=3
TZNAME:MDT
TZOFFSETFROM:-0700
TZOFFSETTO:-0600
END:DAYLIGHT
END:VTIMEZONE
BEGIN:VEVENT
DESCRIPTION:2024 Annual Meeting by the American Academy of Neurology\n\nTi
 tle: Coffee Connect—Trainees (Research Hub)\n\nAccess URL: https://www.aa
 n.com/msa/Public/Events/GetEventURL/17109\n\nLearn More About This Event:
  https://www.aan.com/msa/Public/Events/Details/17109
DTEND;TZID=Mountain Standard Time:20240413T090000
DTSTAMP:20260423T165034Z
DTSTART;TZID=Mountain Standard Time:20240413T080000
LOCATION:https://www.aan.com/msa/Public/Events/GetEventURL/17109
SEQUENCE:0
SUMMARY:AAN: Coffee Connect—Trainees (Research Hub)
UID:56b1f1b5-52c4-4a39-8b45-f2a28ba90637
END:VEVENT
END:VCALENDAR
