BEGIN:VCALENDAR
PRODID:-//github.com/rianjs/ical.net//NONSGML ical.net 4.0//EN
VERSION:2.0
BEGIN:VTIMEZONE
TZID:Mountain Standard Time
X-LIC-LOCATION:America/Denver
BEGIN:STANDARD
DTSTART:20241103T020000
RRULE:FREQ=YEARLY;BYDAY=1SU;BYMONTH=11
TZNAME:MST
TZOFFSETFROM:-0600
TZOFFSETTO:-0700
END:STANDARD
BEGIN:DAYLIGHT
DTSTART:20250309T020000
RRULE:FREQ=YEARLY;BYDAY=2SU;BYMONTH=3
TZNAME:MDT
TZOFFSETFROM:-0700
TZOFFSETTO:-0600
END:DAYLIGHT
END:VTIMEZONE
BEGIN:VEVENT
DESCRIPTION:2024 Annual Meeting by the American Academy of Neurology\n\nTi
 tle: Industry Therapeutic Update from Alexion\, AstraZeneca Rare Disease:
  Examining Additional Data Analysis for a Terminal Complement Inhibitor f
 or Adult Patients With Anti-AChR Antibody-Positive gMG\n\nAccess URL: htt
 ps://www.aan.com/msa/Public/Events/GetEventURL/17135\n\nLearn More About 
 This Event: https://www.aan.com/msa/Public/Events/Details/17135
DTEND;TZID=Mountain Standard Time:20240416T124500
DTSTAMP:20260423T181330Z
DTSTART;TZID=Mountain Standard Time:20240416T114500
LOCATION:https://www.aan.com/msa/Public/Events/GetEventURL/17135
SEQUENCE:0
SUMMARY:AAN: Industry Therapeutic Update from Alexion\, AstraZeneca Rare D
 isease: Examining Additional Data Analysis for a Terminal Complement Inhi
 bitor for Adult Patients With Anti-AChR Antibody-Positive gMG
UID:74f891e0-f149-4adf-889f-9e05853d1d2b
END:VEVENT
END:VCALENDAR
