BEGIN:VCALENDAR
PRODID:-//github.com/rianjs/ical.net//NONSGML ical.net 4.0//EN
VERSION:2.0
BEGIN:VTIMEZONE
TZID:Mountain Standard Time
X-LIC-LOCATION:America/Denver
BEGIN:STANDARD
DTSTART:20241103T020000
RRULE:FREQ=YEARLY;BYDAY=1SU;BYMONTH=11
TZNAME:MST
TZOFFSETFROM:-0600
TZOFFSETTO:-0700
END:STANDARD
BEGIN:DAYLIGHT
DTSTART:20250309T020000
RRULE:FREQ=YEARLY;BYDAY=2SU;BYMONTH=3
TZNAME:MDT
TZOFFSETFROM:-0700
TZOFFSETTO:-0600
END:DAYLIGHT
END:VTIMEZONE
BEGIN:VEVENT
DESCRIPTION:2024 Annual Meeting by the American Academy of Neurology\n\nTi
 tle: Conversation Corner: Benchmarking: Cases and Implementation (Academi
 c Hub)\n\nAccess URL: https://www.aan.com/msa/Public/Events/GetEventURL/1
 7137\n\nLearn More About This Event: https://www.aan.com/msa/Public/Event
 s/Details/17137
DTEND;TZID=Mountain Standard Time:20240416T153000
DTSTAMP:20260423T165233Z
DTSTART;TZID=Mountain Standard Time:20240416T150000
LOCATION:https://www.aan.com/msa/Public/Events/GetEventURL/17137
SEQUENCE:0
SUMMARY:AAN: Conversation Corner: Benchmarking: Cases and Implementation (
 Academic Hub)
UID:8c29d7b5-fb5b-4a0b-8984-fcf9224d337e
END:VEVENT
END:VCALENDAR
