BEGIN:VCALENDAR
PRODID:-//github.com/rianjs/ical.net//NONSGML ical.net 4.0//EN
VERSION:2.0
BEGIN:VTIMEZONE
TZID:Mountain Standard Time
X-LIC-LOCATION:America/Denver
BEGIN:STANDARD
DTSTART:20241103T020000
RRULE:FREQ=YEARLY;BYDAY=1SU;BYMONTH=11
TZNAME:MST
TZOFFSETFROM:-0600
TZOFFSETTO:-0700
END:STANDARD
BEGIN:DAYLIGHT
DTSTART:20250309T020000
RRULE:FREQ=YEARLY;BYDAY=2SU;BYMONTH=3
TZNAME:MDT
TZOFFSETFROM:-0700
TZOFFSETTO:-0600
END:DAYLIGHT
END:VTIMEZONE
BEGIN:VEVENT
DESCRIPTION:2024 Annual Meeting by the American Academy of Neurology\n\nTi
 tle: Navigating the Future of Neurology: Unveiling Natural Language Proce
 ssing's (NLP's) Impact and Addressing Interoperability Challenges (Practi
 ce and Policy Hub)\n\nAccess URL: https://www.aan.com/msa/Public/Events/G
 etEventURL/17149\n\nLearn More About This Event: https://www.aan.com/msa/
 Public/Events/Details/17149
DTEND;TZID=Mountain Standard Time:20240414T143000
DTSTAMP:20260423T164753Z
DTSTART;TZID=Mountain Standard Time:20240414T133000
LOCATION:https://www.aan.com/msa/Public/Events/GetEventURL/17149
SEQUENCE:0
SUMMARY:AAN: Navigating the Future of Neurology: Unveiling Natural Languag
 e Processing's (NLP's) Impact and Addressing Interoperability Challenges 
 (Practice and Policy Hub)
UID:a5dcea3a-32b3-4b1a-9603-3b154ca2bb9b
END:VEVENT
END:VCALENDAR
