BEGIN:VCALENDAR
PRODID:-//github.com/rianjs/ical.net//NONSGML ical.net 4.0//EN
VERSION:2.0
BEGIN:VTIMEZONE
TZID:Mountain Standard Time
X-LIC-LOCATION:America/Denver
BEGIN:STANDARD
DTSTART:20241103T020000
RRULE:FREQ=YEARLY;BYDAY=1SU;BYMONTH=11
TZNAME:MST
TZOFFSETFROM:-0600
TZOFFSETTO:-0700
END:STANDARD
BEGIN:DAYLIGHT
DTSTART:20250309T020000
RRULE:FREQ=YEARLY;BYDAY=2SU;BYMONTH=3
TZNAME:MDT
TZOFFSETFROM:-0700
TZOFFSETTO:-0600
END:DAYLIGHT
END:VTIMEZONE
BEGIN:VEVENT
DESCRIPTION:2024 Annual Meeting by the American Academy of Neurology\n\nTi
 tle: Mentoring: Medical Students with Education Faculty (Trainee Hub)\n\n
 Access URL: https://www.aan.com/msa/Public/Events/GetEventURL/17157\n\nLe
 arn More About This Event: https://www.aan.com/msa/Public/Events/Details/
 17157
DTEND;TZID=Mountain Standard Time:20240415T150000
DTSTAMP:20260423T165034Z
DTSTART;TZID=Mountain Standard Time:20240415T140000
LOCATION:https://www.aan.com/msa/Public/Events/GetEventURL/17157
SEQUENCE:0
SUMMARY:AAN: Mentoring: Medical Students with Education Faculty (Trainee H
 ub)
UID:c02cae5f-c0fb-4a90-a856-94bf9c89483b
END:VEVENT
END:VCALENDAR
