BEGIN:VCALENDAR
PRODID:-//github.com/rianjs/ical.net//NONSGML ical.net 4.0//EN
VERSION:2.0
BEGIN:VTIMEZONE
TZID:Mountain Standard Time
X-LIC-LOCATION:America/Denver
BEGIN:STANDARD
DTSTART:20241103T020000
RRULE:FREQ=YEARLY;BYDAY=1SU;BYMONTH=11
TZNAME:MST
TZOFFSETFROM:-0600
TZOFFSETTO:-0700
END:STANDARD
BEGIN:DAYLIGHT
DTSTART:20250309T020000
RRULE:FREQ=YEARLY;BYDAY=2SU;BYMONTH=3
TZNAME:MDT
TZOFFSETFROM:-0700
TZOFFSETTO:-0600
END:DAYLIGHT
END:VTIMEZONE
BEGIN:VEVENT
DESCRIPTION:2024 Annual Meeting by the American Academy of Neurology\n\nTi
 tle: 2024: A Coding Odyssey (Practice and Policy Hub)\n\nAccess URL: http
 s://www.aan.com/msa/Public/Events/GetEventURL/17159\n\nLearn More About T
 his Event: https://www.aan.com/msa/Public/Events/Details/17159
DTEND;TZID=Mountain Standard Time:20240415T150000
DTSTAMP:20260423T165131Z
DTSTART;TZID=Mountain Standard Time:20240415T143000
LOCATION:https://www.aan.com/msa/Public/Events/GetEventURL/17159
SEQUENCE:0
SUMMARY:AAN: 2024: A Coding Odyssey (Practice and Policy Hub)
UID:d251c0e2-3ee3-4364-9d2b-3b5865abf25f
END:VEVENT
END:VCALENDAR
