BEGIN:VCALENDAR
PRODID:-//github.com/rianjs/ical.net//NONSGML ical.net 4.0//EN
VERSION:2.0
BEGIN:VTIMEZONE
TZID:Mountain Standard Time
X-LIC-LOCATION:America/Denver
BEGIN:STANDARD
DTSTART:20241103T020000
RRULE:FREQ=YEARLY;BYDAY=1SU;BYMONTH=11
TZNAME:MST
TZOFFSETFROM:-0600
TZOFFSETTO:-0700
END:STANDARD
BEGIN:DAYLIGHT
DTSTART:20250309T020000
RRULE:FREQ=YEARLY;BYDAY=2SU;BYMONTH=3
TZNAME:MDT
TZOFFSETFROM:-0700
TZOFFSETTO:-0600
END:DAYLIGHT
END:VTIMEZONE
BEGIN:VEVENT
DESCRIPTION:2024 Annual Meeting by the American Academy of Neurology\n\nTi
 tle: Adding Clinical Trials To Your Practice Can Help Burnout and Diversi
 fy Revenue Streams (Practice and Policy Hub)\n\nAccess URL: https://www.a
 an.com/msa/Public/Events/GetEventURL/17165\n\nLearn More About This Event
 : https://www.aan.com/msa/Public/Events/Details/17165
DTEND;TZID=Mountain Standard Time:20240414T180000
DTSTAMP:20260423T164928Z
DTSTART;TZID=Mountain Standard Time:20240414T170000
LOCATION:https://www.aan.com/msa/Public/Events/GetEventURL/17165
SEQUENCE:0
SUMMARY:AAN: Adding Clinical Trials To Your Practice Can Help Burnout and 
 Diversify Revenue Streams (Practice and Policy Hub)
UID:456799e2-9fbc-42cc-af66-c3d8908f675a
END:VEVENT
END:VCALENDAR
