BEGIN:VCALENDAR
PRODID:-//github.com/rianjs/ical.net//NONSGML ical.net 4.0//EN
VERSION:2.0
BEGIN:VTIMEZONE
TZID:Mountain Standard Time
X-LIC-LOCATION:America/Denver
BEGIN:STANDARD
DTSTART:20241103T020000
RRULE:FREQ=YEARLY;BYDAY=1SU;BYMONTH=11
TZNAME:MST
TZOFFSETFROM:-0600
TZOFFSETTO:-0700
END:STANDARD
BEGIN:DAYLIGHT
DTSTART:20250309T020000
RRULE:FREQ=YEARLY;BYDAY=2SU;BYMONTH=3
TZNAME:MDT
TZOFFSETFROM:-0700
TZOFFSETTO:-0600
END:DAYLIGHT
END:VTIMEZONE
BEGIN:VEVENT
DESCRIPTION:2024 Annual Meeting by the American Academy of Neurology\n\nTi
 tle: Yale 2024 Alumni Reception\n\nDescription: High-top tables for 75 gu
 ests. Cocktails\, beer and wine. \n\nLearn More About This Event: https:/
 /www.aan.com/msa/Public/Events/Details/17182
DTEND;TZID=Mountain Standard Time:20240416T200000
DTSTAMP:20260423T164910Z
DTSTART;TZID=Mountain Standard Time:20240416T180000
LOCATION:https://www.aan.com/msa/Public/Events/GetEventURL/17182
SEQUENCE:0
SUMMARY:AAN: Yale 2024 Alumni Reception
UID:0bf97e5f-2b91-425e-82ae-41a725dba2ab
END:VEVENT
END:VCALENDAR
