BEGIN:VCALENDAR
PRODID:-//github.com/rianjs/ical.net//NONSGML ical.net 4.0//EN
VERSION:2.0
BEGIN:VTIMEZONE
TZID:Mountain Standard Time
X-LIC-LOCATION:America/Denver
BEGIN:STANDARD
DTSTART:20241103T020000
RRULE:FREQ=YEARLY;BYDAY=1SU;BYMONTH=11
TZNAME:MST
TZOFFSETFROM:-0600
TZOFFSETTO:-0700
END:STANDARD
BEGIN:DAYLIGHT
DTSTART:20250309T020000
RRULE:FREQ=YEARLY;BYDAY=2SU;BYMONTH=3
TZNAME:MDT
TZOFFSETFROM:-0700
TZOFFSETTO:-0600
END:DAYLIGHT
END:VTIMEZONE
BEGIN:VEVENT
DESCRIPTION:2024 Annual Meeting by the American Academy of Neurology\n\nTi
 tle: Research Success: Dream Big and Plan Small (Research Hub)\n\nAccess 
 URL: https://www.aan.com/msa/Public/Events/GetEventURL/17185\n\nLearn Mor
 e About This Event: https://www.aan.com/msa/Public/Events/Details/17185
DTEND;TZID=Mountain Standard Time:20240414T160000
DTSTAMP:20260423T165114Z
DTSTART;TZID=Mountain Standard Time:20240414T153000
LOCATION:https://www.aan.com/msa/Public/Events/GetEventURL/17185
SEQUENCE:0
SUMMARY:AAN: Research Success: Dream Big and Plan Small (Research Hub)
UID:14710704-da2e-472f-a0e9-78eda009a02f
END:VEVENT
END:VCALENDAR
