BEGIN:VCALENDAR
PRODID:-//github.com/rianjs/ical.net//NONSGML ical.net 4.0//EN
VERSION:2.0
BEGIN:VTIMEZONE
TZID:Mountain Standard Time
X-LIC-LOCATION:America/Denver
BEGIN:STANDARD
DTSTART:20241103T020000
RRULE:FREQ=YEARLY;BYDAY=1SU;BYMONTH=11
TZNAME:MST
TZOFFSETFROM:-0600
TZOFFSETTO:-0700
END:STANDARD
BEGIN:DAYLIGHT
DTSTART:20250309T020000
RRULE:FREQ=YEARLY;BYDAY=2SU;BYMONTH=3
TZNAME:MDT
TZOFFSETFROM:-0700
TZOFFSETTO:-0600
END:DAYLIGHT
END:VTIMEZONE
BEGIN:VEVENT
DESCRIPTION:2024 Annual Meeting by the American Academy of Neurology\n\nTi
 tle: Conversation with the Neurology Today® Editor (Research Hub)\n\nAcce
 ss URL: https://www.aan.com/msa/Public/Events/GetEventURL/17186\n\nLearn 
 More About This Event: https://www.aan.com/msa/Public/Events/Details/1718
 6
DTEND;TZID=Mountain Standard Time:20240417T140000
DTSTAMP:20260423T181419Z
DTSTART;TZID=Mountain Standard Time:20240417T133000
LOCATION:https://www.aan.com/msa/Public/Events/GetEventURL/17186
SEQUENCE:0
SUMMARY:AAN: Conversation with the Neurology Today® Editor (Research Hub)
UID:a887d419-8660-4ff6-9e21-2ce6d3df2777
END:VEVENT
END:VCALENDAR
