BEGIN:VCALENDAR
PRODID:-//github.com/rianjs/ical.net//NONSGML ical.net 4.0//EN
VERSION:2.0
BEGIN:VTIMEZONE
TZID:Mountain Standard Time
X-LIC-LOCATION:America/Denver
BEGIN:STANDARD
DTSTART:20241103T020000
RRULE:FREQ=YEARLY;BYDAY=1SU;BYMONTH=11
TZNAME:MST
TZOFFSETFROM:-0600
TZOFFSETTO:-0700
END:STANDARD
BEGIN:DAYLIGHT
DTSTART:20250309T020000
RRULE:FREQ=YEARLY;BYDAY=2SU;BYMONTH=3
TZNAME:MDT
TZOFFSETFROM:-0700
TZOFFSETTO:-0600
END:DAYLIGHT
END:VTIMEZONE
BEGIN:VEVENT
DESCRIPTION:2024 Annual Meeting by the American Academy of Neurology\n\nTi
 tle: Practical Tips for a Successful Poster (Research Hub)\n\nAccess URL:
  https://www.aan.com/msa/Public/Events/GetEventURL/17188\n\nLearn More Ab
 out This Event: https://www.aan.com/msa/Public/Events/Details/17188
DTEND;TZID=Mountain Standard Time:20240415T150000
DTSTAMP:20260423T165233Z
DTSTART;TZID=Mountain Standard Time:20240415T143000
LOCATION:https://www.aan.com/msa/Public/Events/GetEventURL/17188
SEQUENCE:0
SUMMARY:AAN: Practical Tips for a Successful Poster (Research Hub)
UID:d23b4ff0-b117-4e15-a9e3-ef860815abb7
END:VEVENT
END:VCALENDAR
