BEGIN:VCALENDAR
PRODID:-//github.com/rianjs/ical.net//NONSGML ical.net 4.0//EN
VERSION:2.0
BEGIN:VTIMEZONE
TZID:Mountain Standard Time
X-LIC-LOCATION:America/Denver
BEGIN:STANDARD
DTSTART:20241103T020000
RRULE:FREQ=YEARLY;BYDAY=1SU;BYMONTH=11
TZNAME:MST
TZOFFSETFROM:-0600
TZOFFSETTO:-0700
END:STANDARD
BEGIN:DAYLIGHT
DTSTART:20250309T020000
RRULE:FREQ=YEARLY;BYDAY=2SU;BYMONTH=3
TZNAME:MDT
TZOFFSETFROM:-0700
TZOFFSETTO:-0600
END:DAYLIGHT
END:VTIMEZONE
BEGIN:VEVENT
DESCRIPTION:2024 Annual Meeting by the American Academy of Neurology\n\nTi
 tle: Finding a Mentor for Your Research Career (Research Hub)\n\nAccess U
 RL: https://www.aan.com/msa/Public/Events/GetEventURL/17189\n\nLearn More
  About This Event: https://www.aan.com/msa/Public/Events/Details/17189
DTEND;TZID=Mountain Standard Time:20240415T153000
DTSTAMP:20260423T165130Z
DTSTART;TZID=Mountain Standard Time:20240415T150000
LOCATION:https://www.aan.com/msa/Public/Events/GetEventURL/17189
SEQUENCE:0
SUMMARY:AAN: Finding a Mentor for Your Research Career (Research Hub)
UID:20e32664-9b82-467b-b7fe-a133a9f0b166
END:VEVENT
END:VCALENDAR
