BEGIN:VCALENDAR
PRODID:-//github.com/rianjs/ical.net//NONSGML ical.net 4.0//EN
VERSION:2.0
BEGIN:VTIMEZONE
TZID:Mountain Standard Time
X-LIC-LOCATION:America/Denver
BEGIN:STANDARD
DTSTART:20241103T020000
RRULE:FREQ=YEARLY;BYDAY=1SU;BYMONTH=11
TZNAME:MST
TZOFFSETFROM:-0600
TZOFFSETTO:-0700
END:STANDARD
BEGIN:DAYLIGHT
DTSTART:20250309T020000
RRULE:FREQ=YEARLY;BYDAY=2SU;BYMONTH=3
TZNAME:MDT
TZOFFSETFROM:-0700
TZOFFSETTO:-0600
END:DAYLIGHT
END:VTIMEZONE
BEGIN:VEVENT
DESCRIPTION:2024 Annual Meeting by the American Academy of Neurology\n\nTi
 tle: Fireside Chat: Contemporary Clinical Issues Plenary Session (Researc
 h Hub)\n\nAccess URL: https://www.aan.com/msa/Public/Events/GetEventURL/1
 7200\n\nLearn More About This Event: https://www.aan.com/msa/Public/Event
 s/Details/17200
DTEND;TZID=Mountain Standard Time:20240415T120000
DTSTAMP:20260423T164900Z
DTSTART;TZID=Mountain Standard Time:20240415T113000
LOCATION:https://www.aan.com/msa/Public/Events/GetEventURL/17200
SEQUENCE:0
SUMMARY:AAN: Fireside Chat: Contemporary Clinical Issues Plenary Session (
 Research Hub)
UID:a884e25a-090f-4806-9fab-0bdc449f6328
END:VEVENT
END:VCALENDAR
