BEGIN:VCALENDAR
PRODID:-//github.com/rianjs/ical.net//NONSGML ical.net 4.0//EN
VERSION:2.0
BEGIN:VTIMEZONE
TZID:Mountain Standard Time
X-LIC-LOCATION:America/Denver
BEGIN:STANDARD
DTSTART:20241103T020000
RRULE:FREQ=YEARLY;BYDAY=1SU;BYMONTH=11
TZNAME:MST
TZOFFSETFROM:-0600
TZOFFSETTO:-0700
END:STANDARD
BEGIN:DAYLIGHT
DTSTART:20250309T020000
RRULE:FREQ=YEARLY;BYDAY=2SU;BYMONTH=3
TZNAME:MDT
TZOFFSETFROM:-0700
TZOFFSETTO:-0600
END:DAYLIGHT
END:VTIMEZONE
BEGIN:VEVENT
DESCRIPTION:2024 Annual Meeting by the American Academy of Neurology\n\nTi
 tle: Poster Session 05\n\nAccess URL: https://www.aan.com/msa/Public/Even
 ts/GetEventURL/17209\n\nLearn More About This Event: https://www.aan.com/
 msa/Public/Events/Details/17209
DTEND;TZID=Mountain Standard Time:20240415T183000
DTSTAMP:20260423T164928Z
DTSTART;TZID=Mountain Standard Time:20240415T173000
LOCATION:https://www.aan.com/msa/Public/Events/GetEventURL/17209
SEQUENCE:0
SUMMARY:AAN: Poster Session 05
UID:251db303-6f63-4550-9d7d-f03a4689091d
END:VEVENT
END:VCALENDAR
